BEGIN:VCALENDAR
VERSION:2.0
PRODID:-//Walter Mars - ECPv6.15.18//NONSGML v1.0//EN
CALSCALE:GREGORIAN
METHOD:PUBLISH
X-ORIGINAL-URL:https://waltermars.nl
X-WR-CALDESC:Evenementen voor Walter Mars
REFRESH-INTERVAL;VALUE=DURATION:PT1H
X-Robots-Tag:noindex
X-PUBLISHED-TTL:PT1H
BEGIN:VTIMEZONE
TZID:Europe/Amsterdam
BEGIN:DAYLIGHT
TZOFFSETFROM:+0100
TZOFFSETTO:+0200
TZNAME:CEST
DTSTART:20250330T010000
END:DAYLIGHT
BEGIN:STANDARD
TZOFFSETFROM:+0200
TZOFFSETTO:+0100
TZNAME:CET
DTSTART:20251026T010000
END:STANDARD
BEGIN:DAYLIGHT
TZOFFSETFROM:+0100
TZOFFSETTO:+0200
TZNAME:CEST
DTSTART:20260329T010000
END:DAYLIGHT
BEGIN:STANDARD
TZOFFSETFROM:+0200
TZOFFSETTO:+0100
TZNAME:CET
DTSTART:20261025T010000
END:STANDARD
BEGIN:DAYLIGHT
TZOFFSETFROM:+0100
TZOFFSETTO:+0200
TZNAME:CEST
DTSTART:20270328T010000
END:DAYLIGHT
BEGIN:STANDARD
TZOFFSETFROM:+0200
TZOFFSETTO:+0100
TZNAME:CET
DTSTART:20271031T010000
END:STANDARD
END:VTIMEZONE
BEGIN:VEVENT
DTSTART;TZID=Europe/Amsterdam:20261109T083000
DTEND;TZID=Europe/Amsterdam:20261109T160000
DTSTAMP:20260425T215458
CREATED:20260310T101427Z
LAST-MODIFIED:20260310T101721Z
UID:652-1794213000-1794240000@waltermars.nl
SUMMARY:Herhaling BHV
DESCRIPTION:
URL:https://waltermars.nl/training/herhaling-bhv-8/
LOCATION:De Iepenwei 14a\, Geldermalsen\, De Iepenwei 14a\, Geldermalsen\, 4191 PD
CATEGORIES:BHV
END:VEVENT
BEGIN:VEVENT
DTSTART;TZID=Europe/Amsterdam:20261116T083000
DTEND;TZID=Europe/Amsterdam:20261116T160000
DTSTAMP:20260425T215458
CREATED:20260310T101320Z
LAST-MODIFIED:20260310T101616Z
UID:648-1794817800-1794844800@waltermars.nl
SUMMARY:Basisopleiding BHV (e-learning en praktijkdag)
DESCRIPTION:
URL:https://waltermars.nl/training/basisopleiding-bhv-e-learning-en-praktijkdag-9/
LOCATION:De Iepenwei 14a\, Geldermalsen\, De Iepenwei 14a\, Geldermalsen\, 4191 PD
CATEGORIES:BHV
END:VEVENT
BEGIN:VEVENT
DTSTART;TZID=Europe/Amsterdam:20261116T083000
DTEND;TZID=Europe/Amsterdam:20261116T160000
DTSTAMP:20260425T215458
CREATED:20260310T101502Z
LAST-MODIFIED:20260310T101536Z
UID:654-1794817800-1794844800@waltermars.nl
SUMMARY:Herhaling BHV
DESCRIPTION:
URL:https://waltermars.nl/training/herhaling-bhv-9/
LOCATION:De Iepenwei 14a\, Geldermalsen\, De Iepenwei 14a\, Geldermalsen\, 4191 PD
CATEGORIES:BHV
END:VEVENT
END:VCALENDAR