BEGIN:VCALENDAR
VERSION:2.0
PRODID:-//Walter Mars - ECPv6.15.18//NONSGML v1.0//EN
CALSCALE:GREGORIAN
METHOD:PUBLISH
X-ORIGINAL-URL:https://waltermars.nl
X-WR-CALDESC:Evenementen voor Walter Mars
REFRESH-INTERVAL;VALUE=DURATION:PT1H
X-Robots-Tag:noindex
X-PUBLISHED-TTL:PT1H
BEGIN:VTIMEZONE
TZID:Europe/Amsterdam
BEGIN:DAYLIGHT
TZOFFSETFROM:+0100
TZOFFSETTO:+0200
TZNAME:CEST
DTSTART:20250330T010000
END:DAYLIGHT
BEGIN:STANDARD
TZOFFSETFROM:+0200
TZOFFSETTO:+0100
TZNAME:CET
DTSTART:20251026T010000
END:STANDARD
BEGIN:DAYLIGHT
TZOFFSETFROM:+0100
TZOFFSETTO:+0200
TZNAME:CEST
DTSTART:20260329T010000
END:DAYLIGHT
BEGIN:STANDARD
TZOFFSETFROM:+0200
TZOFFSETTO:+0100
TZNAME:CET
DTSTART:20261025T010000
END:STANDARD
BEGIN:DAYLIGHT
TZOFFSETFROM:+0100
TZOFFSETTO:+0200
TZNAME:CEST
DTSTART:20270328T010000
END:DAYLIGHT
BEGIN:STANDARD
TZOFFSETFROM:+0200
TZOFFSETTO:+0100
TZNAME:CET
DTSTART:20271031T010000
END:STANDARD
END:VTIMEZONE
BEGIN:VEVENT
DTSTART;TZID=Europe/Amsterdam:20261112T190000
DTEND;TZID=Europe/Amsterdam:20261112T220000
DTSTAMP:20260426T034628
CREATED:20260310T100706Z
LAST-MODIFIED:20260310T101654Z
UID:642-1794510000-1794520800@waltermars.nl
SUMMARY:Herhaling Eerste Hulp
DESCRIPTION:
URL:https://waltermars.nl/training/herhaling-eerste-hulp-7/
LOCATION:De Iepenwei 14a\, Geldermalsen\, De Iepenwei 14a\, Geldermalsen\, 4191 PD
CATEGORIES:EHBO
END:VEVENT
END:VCALENDAR