BEGIN:VCALENDAR
VERSION:2.0
PRODID:-//Walter Mars - ECPv6.15.18//NONSGML v1.0//EN
CALSCALE:GREGORIAN
METHOD:PUBLISH
X-WR-CALNAME:Walter Mars
X-ORIGINAL-URL:https://waltermars.nl
X-WR-CALDESC:Evenementen voor Walter Mars
REFRESH-INTERVAL;VALUE=DURATION:PT1H
X-Robots-Tag:noindex
X-PUBLISHED-TTL:PT1H
BEGIN:VTIMEZONE
TZID:Europe/Amsterdam
BEGIN:DAYLIGHT
TZOFFSETFROM:+0100
TZOFFSETTO:+0200
TZNAME:CEST
DTSTART:20250330T010000
END:DAYLIGHT
BEGIN:STANDARD
TZOFFSETFROM:+0200
TZOFFSETTO:+0100
TZNAME:CET
DTSTART:20251026T010000
END:STANDARD
BEGIN:DAYLIGHT
TZOFFSETFROM:+0100
TZOFFSETTO:+0200
TZNAME:CEST
DTSTART:20260329T010000
END:DAYLIGHT
BEGIN:STANDARD
TZOFFSETFROM:+0200
TZOFFSETTO:+0100
TZNAME:CET
DTSTART:20261025T010000
END:STANDARD
BEGIN:DAYLIGHT
TZOFFSETFROM:+0100
TZOFFSETTO:+0200
TZNAME:CEST
DTSTART:20270328T010000
END:DAYLIGHT
BEGIN:STANDARD
TZOFFSETFROM:+0200
TZOFFSETTO:+0100
TZNAME:CET
DTSTART:20271031T010000
END:STANDARD
END:VTIMEZONE
BEGIN:VEVENT
DTSTART;TZID=Europe/Amsterdam:20260422T083000
DTEND;TZID=Europe/Amsterdam:20260422T160000
DTSTAMP:20260425T172658
CREATED:20250508T124902Z
LAST-MODIFIED:20251118T144155Z
UID:569-1776846600-1776873600@waltermars.nl
SUMMARY:Basisopleiding BHV (e-learning en praktijkdag)
DESCRIPTION:
URL:https://waltermars.nl/training/basisopleiding-bhv-e-learning-en-praktijkdag-2/
LOCATION:De Iepenwei 14a\, Geldermalsen\, De Iepenwei 14a\, Geldermalsen\, 4191 PD
CATEGORIES:BHV
END:VEVENT
BEGIN:VEVENT
DTSTART;TZID=Europe/Amsterdam:20260422T083000
DTEND;TZID=Europe/Amsterdam:20260422T160000
DTSTAMP:20260425T172658
CREATED:20250508T124753Z
LAST-MODIFIED:20251118T144131Z
UID:567-1776846600-1776873600@waltermars.nl
SUMMARY:Herhaling BHV
DESCRIPTION:
URL:https://waltermars.nl/training/herhaling-bhv-2/
LOCATION:De Iepenwei 14a\, Geldermalsen\, De Iepenwei 14a\, Geldermalsen\, 4191 PD
CATEGORIES:BHV
END:VEVENT
BEGIN:VEVENT
DTSTART;TZID=Europe/Amsterdam:20260415T190000
DTEND;TZID=Europe/Amsterdam:20260415T220000
DTSTAMP:20260425T172658
CREATED:20251103T123859Z
LAST-MODIFIED:20251103T123859Z
UID:605-1776279600-1776290400@waltermars.nl
SUMMARY:Praktijkles Eerste Hulp aan Kinderen
DESCRIPTION:
URL:https://waltermars.nl/training/praktijkles-eerste-hulp-aan-kinderen/
LOCATION:De Iepenwei 14a\, Geldermalsen\, De Iepenwei 14a\, Geldermalsen\, 4191 PD
CATEGORIES:EHBO
END:VEVENT
BEGIN:VEVENT
DTSTART;TZID=Europe/Amsterdam:20260415T190000
DTEND;TZID=Europe/Amsterdam:20260415T220000
DTSTAMP:20260425T172658
CREATED:20250916T105315Z
LAST-MODIFIED:20250916T105315Z
UID:585-1776279600-1776290400@waltermars.nl
SUMMARY:Herhaling Eerste Hulp
DESCRIPTION:
URL:https://waltermars.nl/training/herhaling-eerste-hulp-6/
CATEGORIES:EHBO
END:VEVENT
BEGIN:VEVENT
DTSTART;TZID=Europe/Amsterdam:20260331T083000
DTEND;TZID=Europe/Amsterdam:20260331T160000
DTSTAMP:20260425T172658
CREATED:20241004T123432Z
LAST-MODIFIED:20251118T144051Z
UID:533-1774945800-1774972800@waltermars.nl
SUMMARY:Basisopleiding BHV (e-learning en praktijkdag)
DESCRIPTION:
URL:https://waltermars.nl/training/basisopleiding-bhv-e-learning-en-praktijkdag/
LOCATION:De Iepenwei 14a\, Geldermalsen\, De Iepenwei 14a\, Geldermalsen\, 4191 PD
CATEGORIES:BHV
END:VEVENT
BEGIN:VEVENT
DTSTART;TZID=Europe/Amsterdam:20260331T083000
DTEND;TZID=Europe/Amsterdam:20260331T160000
DTSTAMP:20260425T172658
CREATED:20241004T123146Z
LAST-MODIFIED:20251118T144022Z
UID:525-1774945800-1774972800@waltermars.nl
SUMMARY:Herhaling BHV
DESCRIPTION:
URL:https://waltermars.nl/training/herhaling-bhv/
LOCATION:De Iepenwei 14a\, Geldermalsen\, De Iepenwei 14a\, Geldermalsen\, 4191 PD
CATEGORIES:BHV
END:VEVENT
BEGIN:VEVENT
DTSTART;TZID=Europe/Amsterdam:20260319T190000
DTEND;TZID=Europe/Amsterdam:20260319T220000
DTSTAMP:20260425T172658
CREATED:20250916T105238Z
LAST-MODIFIED:20250916T105238Z
UID:583-1773946800-1773957600@waltermars.nl
SUMMARY:Herhaling Eerste Hulp
DESCRIPTION:
URL:https://waltermars.nl/training/herhaling-eerste-hulp-5/
CATEGORIES:EHBO
END:VEVENT
BEGIN:VEVENT
DTSTART;TZID=Europe/Amsterdam:20260317T080000
DTEND;TZID=Europe/Amsterdam:20260317T160000
DTSTAMP:20260425T172658
CREATED:20240704T091535Z
LAST-MODIFIED:20251118T144252Z
UID:448-1773734400-1773763200@waltermars.nl
SUMMARY:VCA Combi (Basis/VOL)
DESCRIPTION:
URL:https://waltermars.nl/training/vca-combi-basis-vol-3/
LOCATION:De Iepenwei 14a\, Geldermalsen\, De Iepenwei 14a\, Geldermalsen\, 4191 PD
CATEGORIES:VCA
END:VEVENT
BEGIN:VEVENT
DTSTART;TZID=Europe/Amsterdam:20260209T190000
DTEND;TZID=Europe/Amsterdam:20260209T220000
DTSTAMP:20260425T172658
CREATED:20250916T105131Z
LAST-MODIFIED:20250916T105131Z
UID:581-1770663600-1770674400@waltermars.nl
SUMMARY:Herhaling Eerste Hulp
DESCRIPTION:
URL:https://waltermars.nl/training/herhaling-eerste-hulp-4/
CATEGORIES:EHBO
END:VEVENT
BEGIN:VEVENT
DTSTART;TZID=Europe/Amsterdam:20260127T083000
DTEND;TZID=Europe/Amsterdam:20260127T160000
DTSTAMP:20260425T172658
CREATED:20260123T105040Z
LAST-MODIFIED:20260324T140238Z
UID:621-1769502600-1769529600@waltermars.nl
SUMMARY:Herhaling BHV
DESCRIPTION:
URL:https://waltermars.nl/training/herhaling-bhv-3/
LOCATION:De Iepenwei 14a\, Geldermalsen\, De Iepenwei 14a\, Geldermalsen\, 4191 PD
CATEGORIES:BHV
END:VEVENT
BEGIN:VEVENT
DTSTART;TZID=Europe/Amsterdam:20260127T083000
DTEND;TZID=Europe/Amsterdam:20260127T160000
DTSTAMP:20260425T172658
CREATED:20260123T104920Z
LAST-MODIFIED:20260324T140207Z
UID:617-1769502600-1769529600@waltermars.nl
SUMMARY:Basisopleiding BHV (e-learning en praktijkdag)
DESCRIPTION:
URL:https://waltermars.nl/training/basisopleiding-bhv-e-learning-en-praktijkdag-3/
LOCATION:De Iepenwei 14a\, Geldermalsen\, De Iepenwei 14a\, Geldermalsen\, 4191 PD
CATEGORIES:BHV
END:VEVENT
END:VCALENDAR