BEGIN:VCALENDAR
VERSION:2.0
PRODID:-//Walter Mars - ECPv6.15.18//NONSGML v1.0//EN
CALSCALE:GREGORIAN
METHOD:PUBLISH
X-WR-CALNAME:Walter Mars
X-ORIGINAL-URL:https://waltermars.nl
X-WR-CALDESC:Evenementen voor Walter Mars
REFRESH-INTERVAL;VALUE=DURATION:PT1H
X-Robots-Tag:noindex
X-PUBLISHED-TTL:PT1H
BEGIN:VTIMEZONE
TZID:Europe/Amsterdam
BEGIN:DAYLIGHT
TZOFFSETFROM:+0100
TZOFFSETTO:+0200
TZNAME:CEST
DTSTART:20250330T010000
END:DAYLIGHT
BEGIN:STANDARD
TZOFFSETFROM:+0200
TZOFFSETTO:+0100
TZNAME:CET
DTSTART:20251026T010000
END:STANDARD
BEGIN:DAYLIGHT
TZOFFSETFROM:+0100
TZOFFSETTO:+0200
TZNAME:CEST
DTSTART:20260329T010000
END:DAYLIGHT
BEGIN:STANDARD
TZOFFSETFROM:+0200
TZOFFSETTO:+0100
TZNAME:CET
DTSTART:20261025T010000
END:STANDARD
BEGIN:DAYLIGHT
TZOFFSETFROM:+0100
TZOFFSETTO:+0200
TZNAME:CEST
DTSTART:20270328T010000
END:DAYLIGHT
BEGIN:STANDARD
TZOFFSETFROM:+0200
TZOFFSETTO:+0100
TZNAME:CET
DTSTART:20271031T010000
END:STANDARD
END:VTIMEZONE
BEGIN:VEVENT
DTSTART;TZID=Europe/Amsterdam:20260915T190000
DTEND;TZID=Europe/Amsterdam:20260915T220000
DTSTAMP:20260425T172735
CREATED:20250916T104418Z
LAST-MODIFIED:20260310T100511Z
UID:577-1789498800-1789509600@waltermars.nl
SUMMARY:Herhaling Eerste Hulp
DESCRIPTION:
URL:https://waltermars.nl/training/herhaling-eerste-hulp-2/
LOCATION:De Iepenwei 14a\, Geldermalsen\, De Iepenwei 14a\, Geldermalsen\, 4191 PD
CATEGORIES:EHBO
END:VEVENT
BEGIN:VEVENT
DTSTART;TZID=Europe/Amsterdam:20260917T080000
DTEND;TZID=Europe/Amsterdam:20260917T120000
DTSTAMP:20260425T172735
CREATED:20250205T153115Z
LAST-MODIFIED:20251118T144450Z
UID:550-1789632000-1789646400@waltermars.nl
SUMMARY:VCA Speciaal - les 1
DESCRIPTION:
URL:https://waltermars.nl/training/vca-speciaal-les-1/
LOCATION:De Iepenwei 14a\, Geldermalsen\, De Iepenwei 14a\, Geldermalsen\, 4191 PD
CATEGORIES:VCA
END:VEVENT
BEGIN:VEVENT
DTSTART;TZID=Europe/Amsterdam:20260917T190000
DTEND;TZID=Europe/Amsterdam:20260917T220000
DTSTAMP:20260425T172735
CREATED:20260310T095908Z
LAST-MODIFIED:20260310T102431Z
UID:628-1789671600-1789682400@waltermars.nl
SUMMARY:Opleiding Eerste Hulp - praktijkles 2
DESCRIPTION:
URL:https://waltermars.nl/training/opleiding-eerste-hulp-praktijkles-2/
LOCATION:De Iepenwei 14a\, Geldermalsen\, De Iepenwei 14a\, Geldermalsen\, 4191 PD
CATEGORIES:EHBO
END:VEVENT
BEGIN:VEVENT
DTSTART;TZID=Europe/Amsterdam:20260918T080000
DTEND;TZID=Europe/Amsterdam:20260918T120000
DTSTAMP:20260425T172735
CREATED:20250205T154327Z
LAST-MODIFIED:20251118T144525Z
UID:552-1789718400-1789732800@waltermars.nl
SUMMARY:VCA Speciaal - les 2
DESCRIPTION:
URL:https://waltermars.nl/training/vca-speciaal-les-2/
LOCATION:De Iepenwei 14a\, Geldermalsen\, De Iepenwei 14a\, Geldermalsen\, 4191 PD
CATEGORIES:VCA
END:VEVENT
BEGIN:VEVENT
DTSTART;TZID=Europe/Amsterdam:20260921T080000
DTEND;TZID=Europe/Amsterdam:20260921T120000
DTSTAMP:20260425T172735
CREATED:20250205T154607Z
LAST-MODIFIED:20251118T144606Z
UID:557-1789977600-1789992000@waltermars.nl
SUMMARY:VCA Speciaal - les 3
DESCRIPTION:
URL:https://waltermars.nl/training/vca-speciaal-les-3/
LOCATION:De Iepenwei 14a\, Geldermalsen\, De Iepenwei 14a\, Geldermalsen\, 4191 PD
CATEGORIES:VCA
END:VEVENT
BEGIN:VEVENT
DTSTART;TZID=Europe/Amsterdam:20260922T080000
DTEND;TZID=Europe/Amsterdam:20260922T140000
DTSTAMP:20260425T172735
CREATED:20250205T154457Z
LAST-MODIFIED:20251118T144658Z
UID:555-1790064000-1790085600@waltermars.nl
SUMMARY:VCA Speciaal - les 4 en examen
DESCRIPTION:
URL:https://waltermars.nl/training/vca-speciaal-les-4-en-examen/
LOCATION:De Iepenwei 14a\, Geldermalsen\, De Iepenwei 14a\, Geldermalsen\, 4191 PD
CATEGORIES:VCA
END:VEVENT
BEGIN:VEVENT
DTSTART;TZID=Europe/Amsterdam:20260924T190000
DTEND;TZID=Europe/Amsterdam:20260924T220000
DTSTAMP:20260425T172735
CREATED:20260310T095948Z
LAST-MODIFIED:20260310T102313Z
UID:630-1790276400-1790287200@waltermars.nl
SUMMARY:Opleiding Eerste Hulp - praktijkles 3
DESCRIPTION:
URL:https://waltermars.nl/training/opleiding-eerste-hulp-praktijkles-3-2/
LOCATION:De Iepenwei 14a\, Geldermalsen\, De Iepenwei 14a\, Geldermalsen\, 4191 PD
CATEGORIES:EHBO
END:VEVENT
BEGIN:VEVENT
DTSTART;TZID=Europe/Amsterdam:20260929T083000
DTEND;TZID=Europe/Amsterdam:20260929T160000
DTSTAMP:20260425T172735
CREATED:20240704T091405Z
LAST-MODIFIED:20260310T102244Z
UID:442-1790670600-1790697600@waltermars.nl
SUMMARY:Basisopleiding BHV (e-learning en praktijkdag)
DESCRIPTION:
URL:https://waltermars.nl/training/basisopleiding-bhv-e-learning-en-praktijkdag-6/
LOCATION:De Iepenwei 14a\, Geldermalsen\, De Iepenwei 14a\, Geldermalsen\, 4191 PD
CATEGORIES:BHV
END:VEVENT
BEGIN:VEVENT
DTSTART;TZID=Europe/Amsterdam:20260929T083000
DTEND;TZID=Europe/Amsterdam:20260929T160000
DTSTAMP:20260425T172735
CREATED:20240704T091431Z
LAST-MODIFIED:20260310T102222Z
UID:444-1790670600-1790697600@waltermars.nl
SUMMARY:Herhaling BHV
DESCRIPTION:
URL:https://waltermars.nl/training/herhaling-bhv-6/
LOCATION:De Iepenwei 14a\, Geldermalsen\, De Iepenwei 14a\, Geldermalsen\, 4191 PD
CATEGORIES:BHV
END:VEVENT
BEGIN:VEVENT
DTSTART;TZID=Europe/Amsterdam:20261001T190000
DTEND;TZID=Europe/Amsterdam:20261001T220000
DTSTAMP:20260425T172735
CREATED:20260310T100034Z
LAST-MODIFIED:20260310T102155Z
UID:632-1790881200-1790892000@waltermars.nl
SUMMARY:Opleiding Eerste Hulp - praktijkles 4
DESCRIPTION:
URL:https://waltermars.nl/training/opleiding-eerste-hulp-praktijkles-4-2/
LOCATION:De Iepenwei 14a\, Geldermalsen\, De Iepenwei 14a\, Geldermalsen\, 4191 PD
CATEGORIES:EHBO
END:VEVENT
BEGIN:VEVENT
DTSTART;TZID=Europe/Amsterdam:20261005T190000
DTEND;TZID=Europe/Amsterdam:20261005T220000
DTSTAMP:20260425T172735
CREATED:20260310T100628Z
LAST-MODIFIED:20260310T102128Z
UID:640-1791226800-1791237600@waltermars.nl
SUMMARY:Herhaling Eerste Hulp
DESCRIPTION:
URL:https://waltermars.nl/training/herhaling-eerste-hulp/
LOCATION:De Iepenwei 14a\, Geldermalsen\, De Iepenwei 14a\, Geldermalsen\, 4191 PD
CATEGORIES:EHBO
END:VEVENT
BEGIN:VEVENT
DTSTART;TZID=Europe/Amsterdam:20261006T080000
DTEND;TZID=Europe/Amsterdam:20261006T160000
DTSTAMP:20260425T172735
CREATED:20240704T090721Z
LAST-MODIFIED:20260310T102102Z
UID:420-1791273600-1791302400@waltermars.nl
SUMMARY:VCA Combi (Basis/VOL)
DESCRIPTION:
URL:https://waltermars.nl/training/vca-combi-basis-vol/
LOCATION:De Iepenwei 14a\, Geldermalsen\, De Iepenwei 14a\, Geldermalsen\, 4191 PD
CATEGORIES:VCA
END:VEVENT
BEGIN:VEVENT
DTSTART;TZID=Europe/Amsterdam:20261008T190000
DTEND;TZID=Europe/Amsterdam:20261008T220000
DTSTAMP:20260425T172735
CREATED:20260310T100110Z
LAST-MODIFIED:20260310T102014Z
UID:634-1791486000-1791496800@waltermars.nl
SUMMARY:Opleiding Eerste Hulp - praktijkles 5
DESCRIPTION:
URL:https://waltermars.nl/training/opleiding-eerste-hulp-praktijkles-5-2/
LOCATION:De Iepenwei 14a\, Geldermalsen\, De Iepenwei 14a\, Geldermalsen\, 4191 PD
CATEGORIES:EHBO
END:VEVENT
BEGIN:VEVENT
DTSTART;TZID=Europe/Amsterdam:20261026T083000
DTEND;TZID=Europe/Amsterdam:20261026T160000
DTSTAMP:20260425T172735
CREATED:20260310T100222Z
LAST-MODIFIED:20260310T101949Z
UID:636-1793003400-1793030400@waltermars.nl
SUMMARY:Opleiding Eerste Hulp - praktijk dag 1
DESCRIPTION:
URL:https://waltermars.nl/training/opleiding-eerste-hulp-praktijk-dag-1/
LOCATION:De Iepenwei 14a\, Geldermalsen\, De Iepenwei 14a\, Geldermalsen\, 4191 PD
CATEGORIES:EHBO
END:VEVENT
BEGIN:VEVENT
DTSTART;TZID=Europe/Amsterdam:20261102T083000
DTEND;TZID=Europe/Amsterdam:20261102T160000
DTSTAMP:20260425T172735
CREATED:20260310T100308Z
LAST-MODIFIED:20260310T101924Z
UID:638-1793608200-1793635200@waltermars.nl
SUMMARY:Opleiding Eerste Hulp - praktijk dag 2
DESCRIPTION:
URL:https://waltermars.nl/training/opleiding-eerste-hulp-praktijk-dag-2/
LOCATION:De Iepenwei 14a\, Geldermalsen\, De Iepenwei 14a\, Geldermalsen\, 4191 PD
CATEGORIES:EHBO
END:VEVENT
BEGIN:VEVENT
DTSTART;TZID=Europe/Amsterdam:20261103T083000
DTEND;TZID=Europe/Amsterdam:20261103T160000
DTSTAMP:20260425T172735
CREATED:20260310T101200Z
LAST-MODIFIED:20260310T101859Z
UID:644-1793694600-1793721600@waltermars.nl
SUMMARY:Basisopleiding BHV (e-learning en praktijkdag)
DESCRIPTION:
URL:https://waltermars.nl/training/basisopleiding-bhv-e-learning-en-praktijkdag-7/
LOCATION:De Iepenwei 14a\, Geldermalsen\, De Iepenwei 14a\, Geldermalsen\, 4191 PD
CATEGORIES:BHV
END:VEVENT
BEGIN:VEVENT
DTSTART;TZID=Europe/Amsterdam:20261103T083000
DTEND;TZID=Europe/Amsterdam:20261103T160000
DTSTAMP:20260425T172735
CREATED:20260310T101357Z
LAST-MODIFIED:20260310T101836Z
UID:650-1793694600-1793721600@waltermars.nl
SUMMARY:Herhaling BHV
DESCRIPTION:
URL:https://waltermars.nl/training/herhaling-bhv-7/
LOCATION:De Iepenwei 14a\, Geldermalsen\, De Iepenwei 14a\, Geldermalsen\, 4191 PD
CATEGORIES:BHV
END:VEVENT
BEGIN:VEVENT
DTSTART;TZID=Europe/Amsterdam:20261109T083000
DTEND;TZID=Europe/Amsterdam:20261109T160000
DTSTAMP:20260425T172735
CREATED:20260310T101242Z
LAST-MODIFIED:20260310T101810Z
UID:646-1794213000-1794240000@waltermars.nl
SUMMARY:Basisopleiding BHV (e-learning en praktijkdag)
DESCRIPTION:
URL:https://waltermars.nl/training/basisopleiding-bhv-e-learning-en-praktijkdag-8/
LOCATION:De Iepenwei 14a\, Geldermalsen\, De Iepenwei 14a\, Geldermalsen\, 4191 PD
CATEGORIES:BHV
END:VEVENT
BEGIN:VEVENT
DTSTART;TZID=Europe/Amsterdam:20261109T083000
DTEND;TZID=Europe/Amsterdam:20261109T160000
DTSTAMP:20260425T172735
CREATED:20260310T101427Z
LAST-MODIFIED:20260310T101721Z
UID:652-1794213000-1794240000@waltermars.nl
SUMMARY:Herhaling BHV
DESCRIPTION:
URL:https://waltermars.nl/training/herhaling-bhv-8/
LOCATION:De Iepenwei 14a\, Geldermalsen\, De Iepenwei 14a\, Geldermalsen\, 4191 PD
CATEGORIES:BHV
END:VEVENT
BEGIN:VEVENT
DTSTART;TZID=Europe/Amsterdam:20261112T190000
DTEND;TZID=Europe/Amsterdam:20261112T220000
DTSTAMP:20260425T172735
CREATED:20260310T100706Z
LAST-MODIFIED:20260310T101654Z
UID:642-1794510000-1794520800@waltermars.nl
SUMMARY:Herhaling Eerste Hulp
DESCRIPTION:
URL:https://waltermars.nl/training/herhaling-eerste-hulp-7/
LOCATION:De Iepenwei 14a\, Geldermalsen\, De Iepenwei 14a\, Geldermalsen\, 4191 PD
CATEGORIES:EHBO
END:VEVENT
BEGIN:VEVENT
DTSTART;TZID=Europe/Amsterdam:20261116T083000
DTEND;TZID=Europe/Amsterdam:20261116T160000
DTSTAMP:20260425T172735
CREATED:20260310T101320Z
LAST-MODIFIED:20260310T101616Z
UID:648-1794817800-1794844800@waltermars.nl
SUMMARY:Basisopleiding BHV (e-learning en praktijkdag)
DESCRIPTION:
URL:https://waltermars.nl/training/basisopleiding-bhv-e-learning-en-praktijkdag-9/
LOCATION:De Iepenwei 14a\, Geldermalsen\, De Iepenwei 14a\, Geldermalsen\, 4191 PD
CATEGORIES:BHV
END:VEVENT
BEGIN:VEVENT
DTSTART;TZID=Europe/Amsterdam:20261116T083000
DTEND;TZID=Europe/Amsterdam:20261116T160000
DTSTAMP:20260425T172735
CREATED:20260310T101502Z
LAST-MODIFIED:20260310T101536Z
UID:654-1794817800-1794844800@waltermars.nl
SUMMARY:Herhaling BHV
DESCRIPTION:
URL:https://waltermars.nl/training/herhaling-bhv-9/
LOCATION:De Iepenwei 14a\, Geldermalsen\, De Iepenwei 14a\, Geldermalsen\, 4191 PD
CATEGORIES:BHV
END:VEVENT
END:VCALENDAR